BEGIN:VCALENDAR
VERSION:2.0
PRODID:-//bytepages-events//NONSGML V0.1.2//EN
BEGIN:VEVENT
SUMMARY:Traverse City Senior Expo
DTSTART;VALUE=DATE-TIME:20260513T140000Z
DTEND;VALUE=DATE-TIME:20260513T200000Z
DTSTAMP;VALUE=DATE-TIME:20260513T140000Z
UID:event-216@gtpavilions.org
LOCATION:1213 W Civic Center Dr\, Traverse City\, Michigan 49686
URL:http://gtpavilions.org/events/traverse-city-senior-expo/
END:VEVENT
END:VCALENDAR
