BEGIN:VCALENDAR
VERSION:2.0
PRODID:-//bytepages-events//NONSGML V0.1.2//EN
BEGIN:VEVENT
SUMMARY:Speech Therapy Month
DTSTART;VALUE=DATE-TIME:20260501T040001Z
DTEND;VALUE=DATE-TIME:20260601T035959Z
DTSTAMP;VALUE=DATE-TIME:20260501T040001Z
UID:event-200@gtpavilions.org
LOCATION:1000 Pavilions Circle\, Traverse City\, Michigan 49684
URL:http://gtpavilions.org/events/speech-therapy-month/
END:VEVENT
END:VCALENDAR
