BEGIN:VCALENDAR
VERSION:2.0
PRODID:-//bytepages-events//NONSGML V0.1.2//EN
BEGIN:VEVENT
SUMMARY:Older Americans Month
DTSTART;VALUE=DATE-TIME:20260501T040000Z
DTEND;VALUE=DATE-TIME:20260601T035900Z
DTSTAMP;VALUE=DATE-TIME:20260501T040000Z
UID:event-196@gtpavilions.org
URL:http://gtpavilions.org/events/older-americans-month/
END:VEVENT
END:VCALENDAR
