BEGIN:VCALENDAR
VERSION:2.0
PRODID:-//bytepages-events//NONSGML V0.1.2//EN
BEGIN:VEVENT
SUMMARY:Occupational Therapy Month
DTSTART;VALUE=DATE-TIME:20260401T040100Z
DTEND;VALUE=DATE-TIME:20260501T035900Z
DTSTAMP;VALUE=DATE-TIME:20260401T040100Z
UID:event-198@gtpavilions.org
LOCATION:1000 Pavilions Circle\, Traverse City\, Michigan 49684
URL:http://gtpavilions.org/events/occupational-therapy-month/
END:VEVENT
END:VCALENDAR
