BEGIN:VCALENDAR
VERSION:2.0
PRODID:-//bytepages-events//NONSGML V0.1.2//EN
BEGIN:VEVENT
SUMMARY:National Volunteer Week
DTSTART;VALUE=DATE-TIME:20260419T040000Z
DTEND;VALUE=DATE-TIME:20260426T035900Z
DTSTAMP;VALUE=DATE-TIME:20260419T040000Z
UID:event-194@gtpavilions.org
LOCATION:1000 Pavilions Circle\, Traverse City\, Michigan 49684
URL:http://gtpavilions.org/events/national-volunteer-week/
END:VEVENT
END:VCALENDAR
