BEGIN:VCALENDAR
VERSION:2.0
PRODID:-//bytepages-events//NONSGML V0.1.2//EN
BEGIN:VEVENT
SUMMARY:National Skilled Nursing Care Week
DTSTART;VALUE=DATE-TIME:20260510T040001Z
DTEND;VALUE=DATE-TIME:20260517T035959Z
DTSTAMP;VALUE=DATE-TIME:20260510T040001Z
UID:event-209@gtpavilions.org
LOCATION:1000 Pavilions Circle\, Traverse City\, Michigan 49684
URL:http://gtpavilions.org/events/national-skilled-nursing-week/
END:VEVENT
END:VCALENDAR
