BEGIN:VCALENDAR
VERSION:2.0
PRODID:-//bytepages-events//NONSGML V0.1.2//EN
BEGIN:VEVENT
SUMMARY:National Skilled Nursing Care Week
DTSTART;VALUE=DATE-TIME:20260515T040001Z
DTEND;VALUE=DATE-TIME:20260517T035959Z
DTSTAMP;VALUE=DATE-TIME:20260515T040001Z
UID:event-214@gtpavilions.org
LOCATION:1000 Pavilions Circle\, Traverse City\, Michigan 49684
URL:http://gtpavilions.org/events/national-skilled-nursing-care-week-11/
END:VEVENT
END:VCALENDAR
