BEGIN:VCALENDAR
VERSION:2.0
PRODID:-//bytepages-events//NONSGML V0.1.2//EN
BEGIN:VEVENT
SUMMARY:Memorial Day
DTSTART;VALUE=DATE-TIME:20260525T040001Z
DTEND;VALUE=DATE-TIME:20260526T035959Z
DTSTAMP;VALUE=DATE-TIME:20260525T040001Z
UID:event-220@gtpavilions.org
LOCATION:1000 Pavilions Circle\, Traverse City\, Michigan 49684
URL:http://gtpavilions.org/events/memorial-day-2/
END:VEVENT
END:VCALENDAR
