BEGIN:VCALENDAR
VERSION:2.0
PRODID:-//bytepages-events//NONSGML V0.1.2//EN
BEGIN:VEVENT
SUMMARY:Scramble Fore Seniors
DTSTART;VALUE=DATE-TIME:20260515T133000Z
DTEND;VALUE=DATE-TIME:20260515T203000Z
DTSTAMP;VALUE=DATE-TIME:20260515T133000Z
UID:event-218@gtpavilions.org
LOCATION:2430 W Crown Dr\, Traverse City\, MI 49685
URL:http://gtpavilions.org/events/scramble-fore-seniors/
END:VEVENT
END:VCALENDAR
