BEGIN:VCALENDAR
VERSION:2.0
PRODID:-//bytepages-events//NONSGML V0.1.2//EN
BEGIN:VEVENT
SUMMARY:Career Tech Career Fair
DTSTART;VALUE=DATE-TIME:20260409T133000Z
DTEND;VALUE=DATE-TIME:20260409T183000Z
DTSTAMP;VALUE=DATE-TIME:20260409T133000Z
UID:event-193@gtpavilions.org
LOCATION:880 Parsons Rd\, Traverse City\, MI 49686
URL:http://gtpavilions.org/events/career-tech-career-fair/
END:VEVENT
END:VCALENDAR
