BEGIN:VCALENDAR
VERSION:2.0
PRODID:-//bytepages-events//NONSGML V0.1.2//EN
BEGIN:VEVENT
SUMMARY:NMC Career and Majors Fair
DTSTART;VALUE=DATE-TIME:20260410T170000Z
DTEND;VALUE=DATE-TIME:20260410T210000Z
DTSTAMP;VALUE=DATE-TIME:20260410T170000Z
UID:event-197@gtpavilions.org
LOCATION:715 E. Front St.\, Traverse City\, MI 49686
URL:http://gtpavilions.org/events/nmc-career-and-majors-fair/
END:VEVENT
END:VCALENDAR
