BEGIN:VCALENDAR
VERSION:2.0
PRODID:-//bytepages-events//NONSGML V0.1.2//EN
BEGIN:VEVENT
SUMMARY:Human Resources Day
DTSTART;VALUE=DATE-TIME:20260520T040001Z
DTEND;VALUE=DATE-TIME:20260521T035959Z
DTSTAMP;VALUE=DATE-TIME:20260520T040001Z
UID:event-219@gtpavilions.org
LOCATION:1000 Pavilions Circle\, Traverse City\, Michigan 49684
URL:http://gtpavilions.org/events/human-resources-day/
END:VEVENT
END:VCALENDAR
