BEGIN:VCALENDAR
VERSION:2.0
PRODID:-//bytepages-events//NONSGML V0.1.2//EN
BEGIN:VEVENT
SUMMARY:Hope In Every Step - Symposium Present by Michigan Parkinson Found
 ation
DTSTART;VALUE=DATE-TIME:20260407T120000Z
DTEND;VALUE=DATE-TIME:20260407T190000Z
DTSTAMP;VALUE=DATE-TIME:20260407T120000Z
UID:event-192@gtpavilions.org
URL:http://gtpavilions.org/events/hope-in-every-step-symposium-present-by-
 michigan-parkinson-foundation/
END:VEVENT
END:VCALENDAR
