BEGIN:VCALENDAR
VERSION:2.0
PRODID:-//bytepages-events//NONSGML V0.1.2//EN
BEGIN:VEVENT
SUMMARY:Good Friday
DTSTART;VALUE=DATE-TIME:20260403T040000Z
DTEND;VALUE=DATE-TIME:20260404T035900Z
DTSTAMP;VALUE=DATE-TIME:20260403T040000Z
UID:event-189@gtpavilions.org
URL:http://gtpavilions.org/events/good-friday-2/
END:VEVENT
END:VCALENDAR
