BEGIN:VCALENDAR
VERSION:2.0
PRODID:-//bytepages-events//NONSGML V0.1.2//EN
BEGIN:VEVENT
SUMMARY:Facilities Management Day
DTSTART;VALUE=DATE-TIME:20260513T040001Z
DTEND;VALUE=DATE-TIME:20260514T035959Z
DTSTAMP;VALUE=DATE-TIME:20260513T040001Z
UID:event-217@gtpavilions.org
LOCATION:1000 Pavilions Circle\, Traverse City\, Michigan 49684
URL:http://gtpavilions.org/events/facilities-management-day/
END:VEVENT
END:VCALENDAR
