BEGIN:VCALENDAR
VERSION:2.0
PRODID:-//bytepages-events//NONSGML V0.1.2//EN
BEGIN:VEVENT
SUMMARY:Easter
DTSTART;VALUE=DATE-TIME:20260405T040000Z
DTEND;VALUE=DATE-TIME:20260406T035900Z
DTSTAMP;VALUE=DATE-TIME:20260405T040000Z
UID:event-190@gtpavilions.org
URL:http://gtpavilions.org/events/easter-1/
END:VEVENT
END:VCALENDAR
