BEGIN:VCALENDAR
VERSION:2.0
PRODID:-//bytepages-events//NONSGML V0.1.2//EN
BEGIN:VEVENT
SUMMARY:Child Care Provider Day
DTSTART;VALUE=DATE-TIME:20260508T040001Z
DTEND;VALUE=DATE-TIME:20260509T035959Z
DTSTAMP;VALUE=DATE-TIME:20260508T040001Z
UID:event-202@gtpavilions.org
LOCATION:1000 Pavilions Circle\, Traverse City\, Michigan 49684
URL:http://gtpavilions.org/events/child-care-provider-day/
END:VEVENT
END:VCALENDAR
