BEGIN:VCALENDAR
VERSION:2.0
PRODID:-//bytepages-events//NONSGML V0.1.2//EN
BEGIN:VEVENT
SUMMARY:Be Well Senior Expo
DTSTART;VALUE=DATE-TIME:20260406T140000Z
DTEND;VALUE=DATE-TIME:20260406T170000Z
DTSTAMP;VALUE=DATE-TIME:20260406T140000Z
UID:event-191@gtpavilions.org
LOCATION:715 East Front Street\, Traverse City\, Michigan 49686
URL:http://gtpavilions.org/events/be-well-senior-expo/
END:VEVENT
END:VCALENDAR
