BEGIN:VCALENDAR
VERSION:2.0
PRODID:-//bytepages-events//NONSGML V0.1.2//EN
BEGIN:VEVENT
SUMMARY:Administrative Professionals Day
DTSTART;VALUE=DATE-TIME:20260422T040000Z
DTEND;VALUE=DATE-TIME:20260423T035900Z
DTSTAMP;VALUE=DATE-TIME:20260422T040000Z
UID:event-195@gtpavilions.org
LOCATION:1000 Pavilions Circle\, Traverse City\, Michigan 49684
URL:http://gtpavilions.org/events/administrative-professionals-day/
END:VEVENT
END:VCALENDAR
